BEGIN:VCALENDAR
VERSION:2.0
PRODID:icalendar-ruby
CALSCALE:GREGORIAN
METHOD:PUBLISH
BEGIN:VEVENT
DTSTAMP:20260421T220620Z
UID:8-1443071@holytemple.tithelysetup5.com
DTSTART:20260927T140000Z
DTEND:20260927T153500Z
CLASS:PUBLIC
CREATED:20260421T170219
DESCRIPTION:Come and experience God through prayer\, praise\, and preaching
 ! 
LAST-MODIFIED:20260421T170219
LOCATION:4590 New Allen Road\, Memphis\, TN 38128
SUMMARY:Corporate Worship
URL;VALUE=URI:https://www.holytemplemb.org/events/corporate-worship/2026-09
 -27
ATTACH;FILENAME=sbTq.jpg;FMTTYPE=image/jpeg:https://dq5pwpg1q8ru0.cloudfron
 t.net/2023/04/26/08/37/20/9f2f5979-eedc-457a-8019-91a43d05c3c9/sbTq.jpg
END:VEVENT
END:VCALENDAR
