BEGIN:VCALENDAR
VERSION:2.0
PRODID:icalendar-ruby
CALSCALE:GREGORIAN
METHOD:PUBLISH
BEGIN:VEVENT
DTSTAMP:20260423T051951Z
UID:191-1433943@holytemple.tithelysetup5.com
DTSTART:20260429T170000Z
DTEND:20260429T180000Z
CLASS:PUBLIC
CREATED:20260419T190813
DESCRIPTION:
LAST-MODIFIED:20260419T190813
LOCATION:Holy Templ MB Church
SUMMARY:Estate Planning Seminar
URL;VALUE=URI:https://www.holytemplemb.org/events/estate-planning-seminar--
 191/2026-04-29
END:VEVENT
END:VCALENDAR
