BEGIN:VCALENDAR
VERSION:2.0
PRODID:icalendar-ruby
CALSCALE:GREGORIAN
METHOD:PUBLISH
BEGIN:VEVENT
DTSTAMP:20260423T052535Z
UID:189-1433942@holytemple.tithelysetup5.com
DTSTART:20260429T230000Z
DTEND:20260430T000000Z
CLASS:PUBLIC
CREATED:20260419T190604
DESCRIPTION:
LAST-MODIFIED:20260419T190604
LOCATION:Holy Temple MB Church
SUMMARY:Estate Planning Seminar
URL;VALUE=URI:https://www.holytemplemb.org/events/estate-planning-seminar/2
 026-04-29
END:VEVENT
END:VCALENDAR
